BEGIN:VCALENDAR
VERSION:2.0
PRODID:City of Avondale Calendar Creator
METHOD:PUBLISH
BEGIN:VEVENT
DTSTAMP:20221024T123628
DTSTART:20230524T110000
DTEND:20230524T120000
SUMMARY:Wigglers to Walkers
DESCRIPTION:<p>Babies and toddlers, and their caretakers, are invited to join us for short stories, songs, rhymes and movement in this language enrichment program designed to boost brain development followed by playtime.&nbsp;</p>
X-ALT-DESC;FMTTYPE=text/html:<p>Babies and toddlers, and their caretakers, are invited to join us for short stories, songs, rhymes and movement in this language enrichment program designed to boost brain development followed by playtime.&nbsp;</p>
LOCATION:Sam Garcia Western Avenue Library\, 495 E. Western Ave. Avondale\, Arizona 85323
CLASS:PUBLIC
END:VEVENT
END:VCALENDAR
