BEGIN:VCALENDAR
VERSION:2.0
PRODID:City of Avondale Calendar Creator
METHOD:PUBLISH
BEGIN:VEVENT
DTSTAMP:20221024T134948
DTSTART:20230524T160000
DTEND:20230524T170000
SUMMARY:Block Party (ages 5-12)
DESCRIPTION:Join us every Wednesday for a free form, brick building, engineering extravaganza! Kids will be given challenges like building a bridge or creating a castle, but they may free build as well. Younger siblings welcome! Fun for the whole family!
X-ALT-DESC;FMTTYPE=text/html:Join us every Wednesday for a free form, brick building, engineering extravaganza! Kids will be given challenges like building a bridge or creating a castle, but they may free build as well. Younger siblings welcome! Fun for the whole family!
LOCATION:Civic Center Library\, 11350 W. Civic Center Dr. Avondale\, Arizona 85323
CLASS:PUBLIC
END:VEVENT
END:VCALENDAR
