BEGIN:VCALENDAR
VERSION:2.0
PRODID:City of Avondale Calendar Creator
METHOD:PUBLISH
BEGIN:VEVENT
DTSTAMP:20221024T134958
DTSTART:20230523T110000
DTEND:20230523T120000
SUMMARY:Preschool Storytime (Ages 3-5)
DESCRIPTION:<p>This interactive program will feature longer books and a variety of activities such as songs, finger plays and skill building activities needed to get your child ready for kindergarten. Tuesdays @ 11 am (except holidays).&nbsp;</p>
X-ALT-DESC;FMTTYPE=text/html:<p>This interactive program will feature longer books and a variety of activities such as songs, finger plays and skill building activities needed to get your child ready for kindergarten. Tuesdays @ 11 am (except holidays).&nbsp;</p>
LOCATION:Civic Center Library\, 11350 W. Civic Center Dr. Avondale\, Arizona 85323
CLASS:PUBLIC
END:VEVENT
END:VCALENDAR
