BEGIN:VCALENDAR
VERSION:2.0
PRODID:City of Avondale Calendar Creator
METHOD:PUBLISH
BEGIN:VEVENT
DTSTAMP:20221024T135035
DTSTART:20230515T110000
DTEND:20230515T120000
SUMMARY:Wigglers to Walkers
DESCRIPTION:<p>Babies and toddlers, and their caretakers, are invited to join us for short stories, songs, rhymes and movement in this language enrichment program designed to boost brain development followed by playtime. </p>
X-ALT-DESC;FMTTYPE=text/html:<p>Babies and toddlers, and their caretakers, are invited to join us for short stories, songs, rhymes and movement in this language enrichment program designed to boost brain development followed by playtime. </p>
LOCATION:Civic Center Library\, 11350 W. Civic Center Dr. Avondale\, Arizona 85323
CLASS:PUBLIC
END:VEVENT
END:VCALENDAR
