BEGIN:VCALENDAR
VERSION:2.0
PRODID:City of Avondale Calendar Creator
METHOD:PUBLISH
BEGIN:VEVENT
DTSTAMP:20221108T104428
DTSTART:20230509T111500
DTEND:20230509T121500
SUMMARY:Raising a Reader Workshop
DESCRIPTION:<div ltr="" scxw184476516="" bcx0"=""><p scxw184476516="" bcx0"="" paraid="724862563" paraeid="{8694f646-3b2c-4443-a5d6-22be6a1982d2}{45}">This engaging series includes 4 workshops for parents and 12 weeks of award-winning books to read with your child at home. Participate in Raising a Reader® and learn:&nbsp;<br bcx0"="">✓ How to excite your child with books &amp; build a reading routine at home&nbsp;<br bcx0"="">✓ Effective techniques to foster language &amp; early literacy development&nbsp;<br bcx0"="">✓ Helpful connections with your local library&nbsp;<br bcx0"="">✓ How book sharing promotes healthy brain development&nbsp;</p></div><div ltr="" scxw184476516="" bcx0"=""><p scxw184476516="" bcx0"="" paraid="318930522" paraeid="{8694f646-3b2c-4443-a5d6-22be6a1982d2}{67}">Space is limited, to register please contact Carmen Angulo at <a scxw184476516="" bcx0"="" href="mailto:carngulo@arizonaschildren.org" target="_blank" rel="noreferrer noopener">cangulo@arizonaschildren.org</a> or 480-416-0739.&nbsp;</p></div><div ltr="" scxw184476516="" bcx0"=""><p scxw184476516="" bcx0"="" paraid="460891414" paraeid="{8694f646-3b2c-4443-a5d6-22be6a1982d2}{94}">Tuesdays, April 18, 25 &amp; May 2, 9 | 11:15 am – 12:15 pm&nbsp;</p></div>
X-ALT-DESC;FMTTYPE=text/html:<div ltr="" scxw184476516="" bcx0"=""><p scxw184476516="" bcx0"="" paraid="724862563" paraeid="{8694f646-3b2c-4443-a5d6-22be6a1982d2}{45}">This engaging series includes 4 workshops for parents and 12 weeks of award-winning books to read with your child at home. Participate in Raising a Reader® and learn:&nbsp;<br bcx0"="">✓ How to excite your child with books &amp; build a reading routine at home&nbsp;<br bcx0"="">✓ Effective techniques to foster language &amp; early literacy development&nbsp;<br bcx0"="">✓ Helpful connections with your local library&nbsp;<br bcx0"="">✓ How book sharing promotes healthy brain development&nbsp;</p></div><div ltr="" scxw184476516="" bcx0"=""><p scxw184476516="" bcx0"="" paraid="318930522" paraeid="{8694f646-3b2c-4443-a5d6-22be6a1982d2}{67}">Space is limited, to register please contact Carmen Angulo at <a scxw184476516="" bcx0"="" href="mailto:carngulo@arizonaschildren.org" target="_blank" rel="noreferrer noopener">cangulo@arizonaschildren.org</a> or 480-416-0739.&nbsp;</p></div><div ltr="" scxw184476516="" bcx0"=""><p scxw184476516="" bcx0"="" paraid="460891414" paraeid="{8694f646-3b2c-4443-a5d6-22be6a1982d2}{94}">Tuesdays, April 18, 25 &amp; May 2, 9 | 11:15 am – 12:15 pm&nbsp;</p></div>
LOCATION:Sam Garcia Western Avenue Library\, 495 E. Western Ave. Avondale\, Arizona 85323
CLASS:PUBLIC
END:VEVENT
END:VCALENDAR
