BEGIN:VCALENDAR
VERSION:2.0
PRODID:City of Avondale Calendar Creator
METHOD:PUBLISH
BEGIN:VEVENT
DTSTAMP:20230304T160806
DTSTART:20230527T131500
DTEND:20230527T161500
SUMMARY:West Valley Writer’s Group
DESCRIPTION:Join us the 4<sup>th</sup> Saturday of every month and become a part of this congenial group of published and aspiring authors. The focus is on getting published and, once published, getting people to read your work. All genres are welcome.
X-ALT-DESC;FMTTYPE=text/html:Join us the 4<sup>th</sup> Saturday of every month and become a part of this congenial group of published and aspiring authors. The focus is on getting published and, once published, getting people to read your work. All genres are welcome.
LOCATION:Civic Center Library\, 11350 W. Civic Center Dr. Avondale\, Arizona 85323
CLASS:PUBLIC
END:VEVENT
END:VCALENDAR
