BEGIN:VCALENDAR
VERSION:2.0
PRODID:City of Avondale Calendar Creator
METHOD:PUBLISH
BEGIN:VEVENT
DTSTAMP:20230503T100225
DTSTART:20230515T101500
DTEND:20230515T105500
SUMMARY:Wigglers to Walkers
DESCRIPTION:<p>Babies and toddlers, and their caretakers, are invited to join us for short stories, songs, rhymes and movement in this language enrichment program designed to boost brain development followed by playtime.</p><p>**Program repeats at 11am. Please attend only one session.**</p>
X-ALT-DESC;FMTTYPE=text/html:<p>Babies and toddlers, and their caretakers, are invited to join us for short stories, songs, rhymes and movement in this language enrichment program designed to boost brain development followed by playtime.</p><p>**Program repeats at 11am. Please attend only one session.**</p>
LOCATION:Civic Center Library\, 11350 W. Civic Center Dr. Avondale\, Arizona 85323
CLASS:PUBLIC
END:VEVENT
END:VCALENDAR
