BEGIN:VCALENDAR
VERSION:2.0
PRODID:City of Avondale Calendar Creator
METHOD:PUBLISH
BEGIN:VEVENT
DTSTAMP:20230503T144040
DTSTART:20230523T130000
DTEND:20230523T150000
SUMMARY:Device Advice Appointments
DESCRIPTION:<div cxmmr5t8="" oygrvhab="" hcukyx3x="" c1et5uql"="">Take advantage of our 45-minute one-on-one help for anyone who needs basic assistance with cell phone, tablet or computer use, downloading e-books, streaming movies and more. Call or email to schedule an appointment: (623) 333-BOOK or EmailLibrary@AvondaleAZ.gov for your 45 minute appointment today!&nbsp;</div>
X-ALT-DESC;FMTTYPE=text/html:<div cxmmr5t8="" oygrvhab="" hcukyx3x="" c1et5uql"="">Take advantage of our 45-minute one-on-one help for anyone who needs basic assistance with cell phone, tablet or computer use, downloading e-books, streaming movies and more. Call or email to schedule an appointment: (623) 333-BOOK or EmailLibrary@AvondaleAZ.gov for your 45 minute appointment today!&nbsp;</div>
LOCATION:Sam Garcia Western Avenue Library\, 495 E. Western Ave. Avondale\, Arizona 85323
CLASS:PUBLIC
END:VEVENT
END:VCALENDAR
