BEGIN:VCALENDAR
VERSION:2.0
PRODID:City of Avondale Calendar Creator
METHOD:PUBLISH
BEGIN:VEVENT
DTSTAMP:20171030T104615
DTSTART:20171102T100000
DTEND:20171102T120000
SUMMARY:Medicare Benefits Workshop and Assistance
DESCRIPTION:Area Agency on Aging staff will also be available at the Care1st Avondale Resource Center for Medicare benefits counseling by appointment during the dates of open enrollment for Medicare between October 15 - December 7.<br><br>Call for more information, 623-333-2703, or to schedule a one on one appointment. Care1st Avondale Resource and Housing Center located at 328 W. Western Ave., Avondale, AZ 85323.<br><div></div>
X-ALT-DESC;FMTTYPE=text/html:Area Agency on Aging staff will also be available at the Care1st Avondale Resource Center for Medicare benefits counseling by appointment during the dates of open enrollment for Medicare between October 15 - December 7.<br><br>Call for more information, 623-333-2703, or to schedule a one on one appointment. Care1st Avondale Resource and Housing Center located at 328 W. Western Ave., Avondale, AZ 85323.<br><div></div>
LOCATION:
CLASS:PUBLIC
END:VEVENT
END:VCALENDAR
