BEGIN:VCALENDAR
VERSION:2.0
PRODID:City of Avondale Calendar Creator
METHOD:PUBLISH
BEGIN:VEVENT
DTSTAMP:20250516T121810
DTSTART:20250606T150000
DTEND:20250606T160000
SUMMARY:Tween Craft at Civic Center Library (ages 10-12)
DESCRIPTION:<p>For those who are no longer a kid and not quite a teenager, this program will feature various crafts for those who love hands-on projects! </p><p>1st &amp; 3rd Fridays, 3:30 pm.</p>
X-ALT-DESC;FMTTYPE=text/html:<p>For those who are no longer a kid and not quite a teenager, this program will feature various crafts for those who love hands-on projects! </p><p>1st &amp; 3rd Fridays, 3:30 pm.</p>
LOCATION:Civic Center Library\, 11350 W. Civic Center Dr. Avondale\, Arizona 85323
CLASS:PUBLIC
END:VEVENT
END:VCALENDAR
