BEGIN:VCALENDAR
VERSION:2.0
PRODID:City of Avondale Calendar Creator
METHOD:PUBLISH
BEGIN:VEVENT
DTSTAMP:20251028T110514
DTSTART:20260619T000000
DTEND:20260619T235900
SUMMARY:Juneteenth
DESCRIPTION:<p>Acknowledge, Educate, and Celebrate! Activities include live music and dance performances, crafts, soul food, fashion, and educational activities.</p><h3>DATE: Friday, June 19, 2026</h3><h3>TIMES: 7 - 10 PM&nbsp;</h3><h3>LOCATION: Avondale Civic Center Amphitheater &amp; City Hall Building</h3><h3>ADDRESS:&nbsp;<a href="https://maps.app.goo.gl/jjD8HFYGTEb5HT1q9" target="_blank">11465 W. Civic Center Dr. Avondale, AZ. 85323</a></h3>
X-ALT-DESC;FMTTYPE=text/html:<p>Acknowledge, Educate, and Celebrate! Activities include live music and dance performances, crafts, soul food, fashion, and educational activities.</p><h3>DATE: Friday, June 19, 2026</h3><h3>TIMES: 7 - 10 PM&nbsp;</h3><h3>LOCATION: Avondale Civic Center Amphitheater &amp; City Hall Building</h3><h3>ADDRESS:&nbsp;<a href="https://maps.app.goo.gl/jjD8HFYGTEb5HT1q9" target="_blank">11465 W. Civic Center Dr. Avondale, AZ. 85323</a></h3>
LOCATION:Civic Center Complex - Amphitheater\, 11465 W. Civic Center Dr. Avondale\, Arizona 85323
CLASS:PUBLIC
END:VEVENT
END:VCALENDAR
