BEGIN:VCALENDAR
VERSION:2.0
PRODID:City of Avondale Calendar Creator
METHOD:PUBLISH
BEGIN:VEVENT
DTSTAMP:20251103T091714
DTSTART:20261126T000000
DTEND:20261127T235900
SUMMARY:Closed: Thanksgiving and Day After
DESCRIPTION:Both libraries will be closed for Thanksgiving.
X-ALT-DESC;FMTTYPE=text/html:Both libraries will be closed for Thanksgiving.
LOCATION:Civic Center Library\, 11350 W. Civic Center Dr. Avondale\, Arizona 85323
CLASS:PUBLIC
END:VEVENT
END:VCALENDAR
