BEGIN:VCALENDAR
VERSION:2.0
PRODID:City of Avondale Calendar Creator
METHOD:PUBLISH
BEGIN:VEVENT
DTSTAMP:20251103T091839
DTSTART:20260907T000000
DTEND:20260907T235900
SUMMARY:Closed: Labor Day
DESCRIPTION:Both libraries are closed for Labor Day.
X-ALT-DESC;FMTTYPE=text/html:Both libraries are closed for Labor Day.
LOCATION:Civic Center Library\, 11350 W. Civic Center Dr. Avondale\, Arizona 85323
CLASS:PUBLIC
END:VEVENT
END:VCALENDAR
