BEGIN:VCALENDAR
VERSION:2.0
PRODID:City of Avondale Calendar Creator
METHOD:PUBLISH
BEGIN:VEVENT
DTSTAMP:20260117T232616
DTSTART:20260206T153000
DTEND:20260206T163000
SUMMARY:Teen First Fridays: Calligraphy (Ages 13-17)
DESCRIPTION:<p direction-ltr="" align-center="" para-style-body"="">Please welcome the Calligraphic Society of Arizona for a hands-on calligraphy demo celebrating Lunar New Year at Sam Garcia! All materials provided. </p><p direction-ltr="" align-center="" para-style-body"="">Teens are invited to stop by Sam Garcia Library for crafts and other&nbsp;fun activities. No registration needed—just drop in and join the fun</p><p>&nbsp;</p><p>&nbsp;</p>
X-ALT-DESC;FMTTYPE=text/html:<p direction-ltr="" align-center="" para-style-body"="">Please welcome the Calligraphic Society of Arizona for a hands-on calligraphy demo celebrating Lunar New Year at Sam Garcia! All materials provided. </p><p direction-ltr="" align-center="" para-style-body"="">Teens are invited to stop by Sam Garcia Library for crafts and other&nbsp;fun activities. No registration needed—just drop in and join the fun</p><p>&nbsp;</p><p>&nbsp;</p>
LOCATION:Sam Garcia Western Avenue Library\, 495 E. Western Ave. Avondale\, Arizona 85323
CLASS:PUBLIC
END:VEVENT
END:VCALENDAR
