BEGIN:VCALENDAR
VERSION:2.0
PRODID:City of Avondale Calendar Creator
METHOD:PUBLISH
BEGIN:VEVENT
DTSTAMP:20251104T112056
DTSTART:20260403T153000
DTEND:20260403T163000
SUMMARY:Teen First Fridays (Ages 13-17)
DESCRIPTION:Teens are invited to stop by Sam Garcia Library for crafts and other&nbsp;fun activities. No registration needed—just drop in and join the fun
X-ALT-DESC;FMTTYPE=text/html:Teens are invited to stop by Sam Garcia Library for crafts and other&nbsp;fun activities. No registration needed—just drop in and join the fun
LOCATION:Sam Garcia Western Avenue Library\, 495 E. Western Ave. Avondale\, Arizona 85323
CLASS:PUBLIC
END:VEVENT
END:VCALENDAR
