BEGIN:VCALENDAR
VERSION:2.0
PRODID:City of Avondale Calendar Creator
METHOD:PUBLISH
BEGIN:VEVENT
DTSTAMP:20251105T134151
DTSTART:20260218T140000
DTEND:20260218T150000
SUMMARY:Let’s Go Play/Vamos a Jugar at Sam Garcia Library (ages 5-12)
DESCRIPTION:<div data-block="true" data-editor="ekv1k" data-offset-key="fo3iq-0-0"><p data-offset-key="fo3iq-0-0"></p><div data-offset-key="fo3iq-0-0" _1mj"=""><div data-offset-key="fo3iq-0-0" _1mj"="">English and Spanish will be the main target of learning through&nbsp; books, games, and crafts.</div><div data-offset-key="fo3iq-0-0" _1mj"=""><i>We are committed to making our events welcoming and accessible for everyone. If you need accommodations to participate, please email EmailLibrary@avondaleaz.gov or&nbsp;<a data-linkindex="7" title="https://www.avondalelibrary.org/about-us/contact-us" id="OWAa3e3d378-b24d-2087-4743-6d0021ed1d91" data-auth="NotApplicable" rel="noopener noreferrer" target="_blank" href="https://www.avondalelibrary.org/about-us/contact-us">fill out this form</a>.</i></div><div data-offset-key="fo3iq-0-0" _1mj"="">&nbsp;</div><div data-offset-key="fo3iq-0-0" _1mj"="">Wed (2x) Jan 7, Jan 21 | 2 – 3 pm</div><div data-offset-key="fo3iq-0-0" _1mj"="">Wed (2x) Feb 4, Feb 18 | 2 – 3 pm<br>Wed (2x) Mar 4, Mar 18 | 2 – 3 pm<br>Wed (2x) Apr 1, Apr 15 | 2 – 3 pm&nbsp;</div><div data-offset-key="fo3iq-0-0" _1mj"="">&nbsp;</div><div data-offset-key="fo3iq-0-0" _1mj"="">El inglés y el español serán los principales idiomas que se aprenderán&nbsp;por medio de libros, juegos y manualidades.<em>Nos comprometemos nuestros eventos sean bienvenidos y accesibles para todos. Si necesita adaptaciones para participar, envíe un correo electrónico a EmailLibrary@avondaleaz.gov o&nbsp;<a href="https://www.avondalelibrary.org/about-us/contact-us" target="_blank">complete este formulario</a>.</em></div><p data-offset-key="fo3iq-0-0"></p><div data-offset-key="fo3iq-0-0" _1mj"="">miércoles (2x) enero 7 y 21 | 2 – 3 pm</div><div data-offset-key="fo3iq-0-0" _1mj"="">miércoles (2x) feb 4 y 18 | 2 – 3 pm<br>miércoles (2x) Mar 4 y 18 | 2 – 3 pm<br>miércoles (2x) Abr 1 y 15 | 2 – 3 pm&nbsp;</div><br><p><br /></p></div></div>
X-ALT-DESC;FMTTYPE=text/html:<div data-block="true" data-editor="ekv1k" data-offset-key="fo3iq-0-0"><p data-offset-key="fo3iq-0-0"></p><div data-offset-key="fo3iq-0-0" _1mj"=""><div data-offset-key="fo3iq-0-0" _1mj"="">English and Spanish will be the main target of learning through&nbsp; books, games, and crafts.</div><div data-offset-key="fo3iq-0-0" _1mj"=""><i>We are committed to making our events welcoming and accessible for everyone. If you need accommodations to participate, please email EmailLibrary@avondaleaz.gov or&nbsp;<a data-linkindex="7" title="https://www.avondalelibrary.org/about-us/contact-us" id="OWAa3e3d378-b24d-2087-4743-6d0021ed1d91" data-auth="NotApplicable" rel="noopener noreferrer" target="_blank" href="https://www.avondalelibrary.org/about-us/contact-us">fill out this form</a>.</i></div><div data-offset-key="fo3iq-0-0" _1mj"="">&nbsp;</div><div data-offset-key="fo3iq-0-0" _1mj"="">Wed (2x) Jan 7, Jan 21 | 2 – 3 pm</div><div data-offset-key="fo3iq-0-0" _1mj"="">Wed (2x) Feb 4, Feb 18 | 2 – 3 pm<br>Wed (2x) Mar 4, Mar 18 | 2 – 3 pm<br>Wed (2x) Apr 1, Apr 15 | 2 – 3 pm&nbsp;</div><div data-offset-key="fo3iq-0-0" _1mj"="">&nbsp;</div><div data-offset-key="fo3iq-0-0" _1mj"="">El inglés y el español serán los principales idiomas que se aprenderán&nbsp;por medio de libros, juegos y manualidades.<em>Nos comprometemos nuestros eventos sean bienvenidos y accesibles para todos. Si necesita adaptaciones para participar, envíe un correo electrónico a EmailLibrary@avondaleaz.gov o&nbsp;<a href="https://www.avondalelibrary.org/about-us/contact-us" target="_blank">complete este formulario</a>.</em></div><p data-offset-key="fo3iq-0-0"></p><div data-offset-key="fo3iq-0-0" _1mj"="">miércoles (2x) enero 7 y 21 | 2 – 3 pm</div><div data-offset-key="fo3iq-0-0" _1mj"="">miércoles (2x) feb 4 y 18 | 2 – 3 pm<br>miércoles (2x) Mar 4 y 18 | 2 – 3 pm<br>miércoles (2x) Abr 1 y 15 | 2 – 3 pm&nbsp;</div><br><p><br /></p></div></div>
LOCATION:Sam Garcia Western Avenue Library\, 495 E. Western Ave. Avondale\, Arizona 85323
CLASS:PUBLIC
END:VEVENT
END:VCALENDAR
