BEGIN:VCALENDAR
VERSION:2.0
PRODID:City of Avondale Calendar Creator
METHOD:PUBLISH
BEGIN:VEVENT
DTSTAMP:20251106T135040
DTSTART:20260414T160000
DTEND:20260414T170000
SUMMARY:Kids Craft at Sam Garcia Library (Ages 5-12)
DESCRIPTION:<p>Each session features a hands-on project designed for school age kids.<br><br>Tuesdays: Jan 13, Jan 27, Feb 10, Feb 24, Mar 10, Mar 24, Mar 31, Apr 14, Apr 28<br><div>&nbsp;</div><div>For the latest information, find us on&nbsp;<a href="https://www.facebook.com/AvondaleLibrary/" target="_blank">Facebook</a>&nbsp;and&nbsp;<a href="https://www.instagram.com/avondalepubliclibrary/?hl=en" target="_blank">Instagram</a>.</div></p><p><i>We are committed to making our events welcoming and accessible for everyone. If you need accommodations to participate, please email EmailLibrary@avondaleaz.gov or&nbsp;<a data-linkindex="7" title="https://www.avondalelibrary.org/about-us/contact-us" id="OWAa3e3d378-b24d-2087-4743-6d0021ed1d91" data-auth="NotApplicable" rel="noopener noreferrer" target="_blank" href="https://www.avondalelibrary.org/about-us/contact-us">fill out this form</a>.</i></p>
X-ALT-DESC;FMTTYPE=text/html:<p>Each session features a hands-on project designed for school age kids.<br><br>Tuesdays: Jan 13, Jan 27, Feb 10, Feb 24, Mar 10, Mar 24, Mar 31, Apr 14, Apr 28<br><div>&nbsp;</div><div>For the latest information, find us on&nbsp;<a href="https://www.facebook.com/AvondaleLibrary/" target="_blank">Facebook</a>&nbsp;and&nbsp;<a href="https://www.instagram.com/avondalepubliclibrary/?hl=en" target="_blank">Instagram</a>.</div></p><p><i>We are committed to making our events welcoming and accessible for everyone. If you need accommodations to participate, please email EmailLibrary@avondaleaz.gov or&nbsp;<a data-linkindex="7" title="https://www.avondalelibrary.org/about-us/contact-us" id="OWAa3e3d378-b24d-2087-4743-6d0021ed1d91" data-auth="NotApplicable" rel="noopener noreferrer" target="_blank" href="https://www.avondalelibrary.org/about-us/contact-us">fill out this form</a>.</i></p>
LOCATION:Sam Garcia Western Avenue Library\, 495 E. Western Ave. Avondale\, Arizona 85323
CLASS:PUBLIC
END:VEVENT
END:VCALENDAR
