BEGIN:VCALENDAR
VERSION:2.0
PRODID:City of Avondale Calendar Creator
METHOD:PUBLISH
BEGIN:VEVENT
DTSTAMP:20251106T135717
DTSTART:20260502T180000
DTEND:20260502T210000
SUMMARY:Kermés en la Biblioteca at Sam Garcia Library (All Ages)
DESCRIPTION:<p>During the city’s annual <a href="https://www.avondaleaz.gov/government/departments/parks-recreation/events/avondale-fiesta" target="_blank">Avondale Fiesta</a>, stop by the library to play free family friendly carnival games and win prizes. More info to come.</p><p>Traiga a toda la familia a jugar juegos de carnaval gratis durante la Fiesta Anual de Avondale.&nbsp;&nbsp;&nbsp;&nbsp;</p>
X-ALT-DESC;FMTTYPE=text/html:<p>During the city’s annual <a href="https://www.avondaleaz.gov/government/departments/parks-recreation/events/avondale-fiesta" target="_blank">Avondale Fiesta</a>, stop by the library to play free family friendly carnival games and win prizes. More info to come.</p><p>Traiga a toda la familia a jugar juegos de carnaval gratis durante la Fiesta Anual de Avondale.&nbsp;&nbsp;&nbsp;&nbsp;</p>
LOCATION:Sam Garcia Western Avenue Library\, 495 E. Western Ave. Avondale\, Arizona 85323
CLASS:PUBLIC
END:VEVENT
END:VCALENDAR
