BEGIN:VCALENDAR
VERSION:2.0
PRODID:City of Avondale Calendar Creator
METHOD:PUBLISH
BEGIN:VEVENT
DTSTAMP:20260131T155043
DTSTART:20260206T183000
DTEND:20260206T203000
SUMMARY:Movie Night at Sam Garcia Library (All Ages)
DESCRIPTION:<p>Enjoy movie night at DeConcini Park, located right next to Sam Garcia Library. Bring a blanket to sit on!</p><p>&nbsp;The library will be open 1 - 9 p.m. for regular service.</p>
X-ALT-DESC;FMTTYPE=text/html:<p>Enjoy movie night at DeConcini Park, located right next to Sam Garcia Library. Bring a blanket to sit on!</p><p>&nbsp;The library will be open 1 - 9 p.m. for regular service.</p>
LOCATION:Dennis Deconcini Park\, 351 E. Western Ave Avondale\, Arizona 85323
CLASS:PUBLIC
END:VEVENT
END:VCALENDAR
