BEGIN:VCALENDAR
VERSION:2.0
PRODID:City of Avondale Calendar Creator
METHOD:PUBLISH
BEGIN:VEVENT
DTSTAMP:20251201T164110
DTSTART:20270101T000000
DTEND:20270101T235900
SUMMARY:Closed: New Year's Day
DESCRIPTION:
X-ALT-DESC;FMTTYPE=text/html:
LOCATION:Civic Center Library\, 11350 W. Civic Center Dr. Avondale\, Arizona 85323
CLASS:PUBLIC
END:VEVENT
END:VCALENDAR
