BEGIN:VCALENDAR
VERSION:2.0
PRODID:City of Avondale Calendar Creator
METHOD:PUBLISH
BEGIN:VEVENT
DTSTAMP:20260312T122940
DTSTART:20260505T163000
DTEND:20260505T173000
SUMMARY:Grannycore at Civic Center Library (All Ages)
DESCRIPTION:<p>Rediscover the joy of hands-on skills and meaningful connections. Grannycore is a warm, nostalgic space where participants learn traditional skills and crafts that evoke the wisdom and creativity often associated with our grandmothers. Dive into cross stitch, crochet, fixing a button, hemming pants, gardening tips, making your own pickles, and much more!</p><p>First come, first served. Supplies limited to the first 24 participants.</p><p>All Ages!&nbsp; Tuesdays at 4:30pm.</p>
X-ALT-DESC;FMTTYPE=text/html:<p>Rediscover the joy of hands-on skills and meaningful connections. Grannycore is a warm, nostalgic space where participants learn traditional skills and crafts that evoke the wisdom and creativity often associated with our grandmothers. Dive into cross stitch, crochet, fixing a button, hemming pants, gardening tips, making your own pickles, and much more!</p><p>First come, first served. Supplies limited to the first 24 participants.</p><p>All Ages!&nbsp; Tuesdays at 4:30pm.</p>
LOCATION:Civic Center Library\, 11350 W. Civic Center Dr. Avondale\, Arizona 85323
CLASS:PUBLIC
END:VEVENT
END:VCALENDAR
