BEGIN:VCALENDAR
VERSION:2.0
PRODID:City of Avondale Calendar Creator
METHOD:PUBLISH
BEGIN:VEVENT
DTSTAMP:20260120T144811
DTSTART:20260219T180000
DTEND:20260219T200000
SUMMARY:This Could Be Fun: Epic Worlds Trivia @ Dave & Busters. Glendale
DESCRIPTION:<p><em>Discover something new and exciting for adults! Test your knowledge with trivia on Harry Potter, Lord of the Rings, Games of Thrones, and Star Wars. Explore improv with AZ Actors Guild, create a mini garden, relax with sound bath meditation led by Kari Nastvogel. Connect, get create, and enjoy fresh experiences together! <strong>Registration required.&nbsp;</strong></em></p><p><strong>This Could Be Fun: Epic Worlds Trivia at Dave &amp; Buster's Glendale (<span style="color: rgb(255, 0, 0);">9460 W Hanna Ln, Glendale AZ</span>). </strong></p><p><strong>&nbsp;</strong>Put your fandom to the test with an epic showdown of trivia from <strong data-start="169" data-end="185">Harry Potter</strong>, <strong data-start="187" data-end="212">The Lord of the Rings</strong>, <strong data-start="214" data-end="233">Game of Thrones</strong>, and <strong data-start="239" data-end="252">Star Wars</strong>. Think you know these worlds inside and out? Come prove it!</p><p>Win prizes. Eat snacks. Beverages and additional food available for purchase.</p><p>Space limited to 30 participants. First-come first-serve. Arrive early to ensure your spot and place any food or drink orders you may want to purchase.</p><p>&nbsp;</p><p>&nbsp;</p>
X-ALT-DESC;FMTTYPE=text/html:<p><em>Discover something new and exciting for adults! Test your knowledge with trivia on Harry Potter, Lord of the Rings, Games of Thrones, and Star Wars. Explore improv with AZ Actors Guild, create a mini garden, relax with sound bath meditation led by Kari Nastvogel. Connect, get create, and enjoy fresh experiences together! <strong>Registration required.&nbsp;</strong></em></p><p><strong>This Could Be Fun: Epic Worlds Trivia at Dave &amp; Buster's Glendale (<span style="color: rgb(255, 0, 0);">9460 W Hanna Ln, Glendale AZ</span>). </strong></p><p><strong>&nbsp;</strong>Put your fandom to the test with an epic showdown of trivia from <strong data-start="169" data-end="185">Harry Potter</strong>, <strong data-start="187" data-end="212">The Lord of the Rings</strong>, <strong data-start="214" data-end="233">Game of Thrones</strong>, and <strong data-start="239" data-end="252">Star Wars</strong>. Think you know these worlds inside and out? Come prove it!</p><p>Win prizes. Eat snacks. Beverages and additional food available for purchase.</p><p>Space limited to 30 participants. First-come first-serve. Arrive early to ensure your spot and place any food or drink orders you may want to purchase.</p><p>&nbsp;</p><p>&nbsp;</p>
LOCATION:Civic Center Library\, 11350 W. Civic Center Dr. Avondale\, Arizona 85323
CLASS:PUBLIC
END:VEVENT
END:VCALENDAR
