BEGIN:VCALENDAR
VERSION:2.0
PRODID:City of Avondale Calendar Creator
METHOD:PUBLISH
BEGIN:VEVENT
DTSTAMP:20251227T164509
DTSTART:20260401T150000
DTEND:20260401T170000
SUMMARY:Serve and Socialize Wednesdays at Civic Center Library (Ages 13-17, registration is required)
DESCRIPTION:<p>Join us every Wednesday for two hours of fun and purpose! Start with an hour of volunteering at the library, then stick around for activities like Culture Cafe, where you explore a new culture with a treat and craft; Next Level Gaming, with board, card, and video games; Adulting 101, where you learn real-life skills; and Books &amp; Bites, with snacks and book chats.&nbsp; </p><p>Wednesdays from 3-5pm at Civic Center Library.</p><p>A waiver is required for participants under 18.&nbsp; Registration is required.</p><p><a href="https://secure.rec1.com/catalog" target="_blank" rel="noopener">Register</a></p>
X-ALT-DESC;FMTTYPE=text/html:<p>Join us every Wednesday for two hours of fun and purpose! Start with an hour of volunteering at the library, then stick around for activities like Culture Cafe, where you explore a new culture with a treat and craft; Next Level Gaming, with board, card, and video games; Adulting 101, where you learn real-life skills; and Books &amp; Bites, with snacks and book chats.&nbsp; </p><p>Wednesdays from 3-5pm at Civic Center Library.</p><p>A waiver is required for participants under 18.&nbsp; Registration is required.</p><p><a href="https://secure.rec1.com/catalog" target="_blank" rel="noopener">Register</a></p>
LOCATION:Civic Center Library\, 11350 W. Civic Center Dr. Avondale\, Arizona 85323
CLASS:PUBLIC
END:VEVENT
END:VCALENDAR
