BEGIN:VCALENDAR
VERSION:2.0
PRODID:City of Avondale Calendar Creator
METHOD:PUBLISH
BEGIN:VEVENT
DTSTAMP:20251227T165207
DTSTART:20260427T160000
DTEND:20260427T170000
SUMMARY:Kid Librarian at Civic Center Library (Ages 4-12)
DESCRIPTION:<p>Have you ever seen a librarian and thought, "Yeah, I could do that!"? Here's your chance to find out! Each month, one lucky participant will be selected to team up with library staff to create a themed book display in our children's area. The selected "Kid Librarian of the Month" will be featured in the library and on our social media.&nbsp; <a href="https://secure.rec1.com/catalog" target="_blank" rel="noopener">Register </a>for a chance to be our next "Kid Librarian"!</p><p>&nbsp;</p>
X-ALT-DESC;FMTTYPE=text/html:<p>Have you ever seen a librarian and thought, "Yeah, I could do that!"? Here's your chance to find out! Each month, one lucky participant will be selected to team up with library staff to create a themed book display in our children's area. The selected "Kid Librarian of the Month" will be featured in the library and on our social media.&nbsp; <a href="https://secure.rec1.com/catalog" target="_blank" rel="noopener">Register </a>for a chance to be our next "Kid Librarian"!</p><p>&nbsp;</p>
LOCATION:Civic Center Library\, 11350 W. Civic Center Dr. Avondale\, Arizona 85323
CLASS:PUBLIC
END:VEVENT
END:VCALENDAR
