BEGIN:VCALENDAR
VERSION:2.0
PRODID:City of Avondale Calendar Creator
METHOD:PUBLISH
BEGIN:VEVENT
DTSTAMP:20260102T103851
DTSTART:20260406T153000
DTEND:20260406T170000
SUMMARY:Time Travelers at Civic Center Library (Ages 9-12)
DESCRIPTION:<p>Step back in time and have fun exploring a different snapshot in history from world changing events to iconic moments that shaped who we are.&nbsp; Every meeting includes story, open discussion of the impact of each moment, creative projects, and snacks - making history a journey kids won't forget!</p><p>Monday, January 5th - 3:30-5pm : "I Have a Dream!" Civil Rights Movement</p><p>Monday, February 2nd - 3:30-5pm : Great Thinkers of the Renaissance</p><p>Monday, March 2nd - 3:30-5pm : Suffragettes and Women's Right to Vote</p><p>Monday, March 16th - 3:30-5pm : Suffragettes and Women's Right to Vote</p><p>Monday, April 6th - 3:30-5pm : Wheels in Motion - The Industrial Revolution</p><p>Monday, April 20th - 3:30-5pm : Wheels in Motion - The Industrial Revolution</p><p>&nbsp;</p>
X-ALT-DESC;FMTTYPE=text/html:<p>Step back in time and have fun exploring a different snapshot in history from world changing events to iconic moments that shaped who we are.&nbsp; Every meeting includes story, open discussion of the impact of each moment, creative projects, and snacks - making history a journey kids won't forget!</p><p>Monday, January 5th - 3:30-5pm : "I Have a Dream!" Civil Rights Movement</p><p>Monday, February 2nd - 3:30-5pm : Great Thinkers of the Renaissance</p><p>Monday, March 2nd - 3:30-5pm : Suffragettes and Women's Right to Vote</p><p>Monday, March 16th - 3:30-5pm : Suffragettes and Women's Right to Vote</p><p>Monday, April 6th - 3:30-5pm : Wheels in Motion - The Industrial Revolution</p><p>Monday, April 20th - 3:30-5pm : Wheels in Motion - The Industrial Revolution</p><p>&nbsp;</p>
LOCATION:Civic Center Library\, 11350 W. Civic Center Dr. Avondale\, Arizona 85323
CLASS:PUBLIC
END:VEVENT
END:VCALENDAR
