BEGIN:VCALENDAR
VERSION:2.0
PRODID:City of Avondale Calendar Creator
METHOD:PUBLISH
BEGIN:VEVENT
DTSTAMP:20260203T133858
DTSTART:20260407T090000
DTEND:20260407T120000
SUMMARY:CPR and First Aid Training
DESCRIPTION:<p>Classes are held on the first Tuesday of each month from 9 am - 12 pm and 2 - 5 pm. Two-year certification cards will be issued upon successful completion of skills. Bilingual Spanish is available. Pre-registration is required.</p><p>Please register here: <a href="https://www.cognitoforms.com/CityOfAvondaleNFS/CPRFirstAidCertificationClassRegistrationRequestRegistroDeRCPYPrimerosAuxilios" target="_blank" rel="noopener">CPR and First Aid Training</a></p><p><hr></p><p data-start="0" data-end="291">Las clases se llevan a cabo el primer martes de cada mes de 9 a.m. a 12 p.m. y de 2 a 5 p.m. Se entregarán tarjetas de certificación con validez de dos años al completar exitosamente las habilidades. Hay disponibilidad de instructor bilingüe en español. Se requiere inscripción previa.</p><p data-start="293" data-end="320" data-is-last-node="" data-is-only-node="">Por favor, regístrate aquí: <a href="https://www.cognitoforms.com/CityOfAvondaleNFS/CPRFirstAidCertificationClassRegistrationRequestRegistroDeRCPYPrimerosAuxilios" target="_blank" rel="noopener">CPR and First Aid Training</a></p><p><div my-auto="" mx-auto="" pb-10="" [--thread-content-margin:--spacing(4)]="" thread-sm:[--thread-content-margin:--spacing(6)]="" thread-lg:[--thread-content-margin:--spacing(16)]="" px-(--thread-content-margin)"=""><div thread-lg:[--thread-content-max-width:48rem]="" mx-auto="" max-w-(--thread-content-max-width)="" flex-1="" group="" turn-messages="" focus-visible:outline-hidden="" relative="" flex="" w-full="" min-w-0="" flex-col="" agent-turn"="" tabindex="-1"><div max-w-full="" flex-col="" grow"=""><div data-message-author-role="assistant" data-message-id="aa07309a-e208-48b7-9b56-ec083cec1025" dir="auto" text-message="" relative="" flex="" w-full="" flex-col="" items-end="" gap-2="" text-start="" break-words="" whitespace-normal="" [.text-message+&amp;]:mt-1"="" data-message-model-slug="gpt-5"><div w-full="" flex-col="" gap-1="" empty:hidden="" first:pt-[1px]"=""><div prose="" dark:prose-invert="" w-full="" break-words="" dark="" markdown-new-styling"=""></div></div></div></div></div></div></p>
X-ALT-DESC;FMTTYPE=text/html:<p>Classes are held on the first Tuesday of each month from 9 am - 12 pm and 2 - 5 pm. Two-year certification cards will be issued upon successful completion of skills. Bilingual Spanish is available. Pre-registration is required.</p><p>Please register here: <a href="https://www.cognitoforms.com/CityOfAvondaleNFS/CPRFirstAidCertificationClassRegistrationRequestRegistroDeRCPYPrimerosAuxilios" target="_blank" rel="noopener">CPR and First Aid Training</a></p><p><hr></p><p data-start="0" data-end="291">Las clases se llevan a cabo el primer martes de cada mes de 9 a.m. a 12 p.m. y de 2 a 5 p.m. Se entregarán tarjetas de certificación con validez de dos años al completar exitosamente las habilidades. Hay disponibilidad de instructor bilingüe en español. Se requiere inscripción previa.</p><p data-start="293" data-end="320" data-is-last-node="" data-is-only-node="">Por favor, regístrate aquí: <a href="https://www.cognitoforms.com/CityOfAvondaleNFS/CPRFirstAidCertificationClassRegistrationRequestRegistroDeRCPYPrimerosAuxilios" target="_blank" rel="noopener">CPR and First Aid Training</a></p><p><div my-auto="" mx-auto="" pb-10="" [--thread-content-margin:--spacing(4)]="" thread-sm:[--thread-content-margin:--spacing(6)]="" thread-lg:[--thread-content-margin:--spacing(16)]="" px-(--thread-content-margin)"=""><div thread-lg:[--thread-content-max-width:48rem]="" mx-auto="" max-w-(--thread-content-max-width)="" flex-1="" group="" turn-messages="" focus-visible:outline-hidden="" relative="" flex="" w-full="" min-w-0="" flex-col="" agent-turn"="" tabindex="-1"><div max-w-full="" flex-col="" grow"=""><div data-message-author-role="assistant" data-message-id="aa07309a-e208-48b7-9b56-ec083cec1025" dir="auto" text-message="" relative="" flex="" w-full="" flex-col="" items-end="" gap-2="" text-start="" break-words="" whitespace-normal="" [.text-message+&amp;]:mt-1"="" data-message-model-slug="gpt-5"><div w-full="" flex-col="" gap-1="" empty:hidden="" first:pt-[1px]"=""><div prose="" dark:prose-invert="" w-full="" break-words="" dark="" markdown-new-styling"=""></div></div></div></div></div></div></p>
LOCATION:Avondale Resource Center\, 995 E. Riley Dr Avondale\, Arizona 85323
CLASS:PUBLIC
END:VEVENT
END:VCALENDAR
