BEGIN:VCALENDAR
VERSION:2.0
PRODID:City of Avondale Calendar Creator
METHOD:PUBLISH
BEGIN:VEVENT
DTSTAMP:20260203T185118
DTSTART:20260403T150000
DTEND:20260403T160000
SUMMARY:Emergency Diaper Bank
DESCRIPTION:<p scxw120543207="" paraid="10444660" paraeid="{47bf9031-50e8-45cc-af0b-ea79b5b1601e}{239}">Available supplies include supplemental baby diapers, toddler pull-ups, wipes, adult diapers, and period products. Supplies are not guaranteed are subject to availability and are first-come, first-served. Serving families in the Southwest Maricopa region.&nbsp;</p><p scxw120543207="" paraid="10444660" paraeid="{47bf9031-50e8-45cc-af0b-ea79b5b1601e}{239}">Please register here:&nbsp;<a href="https://www.cognitoforms.com/CityOfAvondaleNFS/AvondaleFamilyEducationResourceProgramAFERPEmergencyDiaperBank" target="_blank" rel="noopener">Emergency Diaper Bank</a></p><p scxw120543207="" paraid="10444660" paraeid="{47bf9031-50e8-45cc-af0b-ea79b5b1601e}{239}"><hr></p><p scxw120543207="" paraid="10444660" paraeid="{47bf9031-50e8-45cc-af0b-ea79b5b1601e}{239}">Los suministros disponibles incluyen pañales adicionales para bebés, pull-ups para niños pequeños, toallitas, pañales para adultos y productos para el periodo. Los suministros no están garantizados, están sujetos a disponibilidad y se entregan por orden de llegada. Atendemos a las familias de la región suroeste de Maricopa.<br data-start="393" data-end="396"></p><p scxw120543207="" paraid="10444660" paraeid="{47bf9031-50e8-45cc-af0b-ea79b5b1601e}{239}">Por favor regístrate aquí:&nbsp;<a href="https://www.cognitoforms.com/CityOfAvondaleNFS/AvondaleFamilyEducationResourceProgramAFERPEmergencyDiaperBank" target="_blank" rel="noopener">Emergency Diaper Bank</a></p><div></div>
X-ALT-DESC;FMTTYPE=text/html:<p scxw120543207="" paraid="10444660" paraeid="{47bf9031-50e8-45cc-af0b-ea79b5b1601e}{239}">Available supplies include supplemental baby diapers, toddler pull-ups, wipes, adult diapers, and period products. Supplies are not guaranteed are subject to availability and are first-come, first-served. Serving families in the Southwest Maricopa region.&nbsp;</p><p scxw120543207="" paraid="10444660" paraeid="{47bf9031-50e8-45cc-af0b-ea79b5b1601e}{239}">Please register here:&nbsp;<a href="https://www.cognitoforms.com/CityOfAvondaleNFS/AvondaleFamilyEducationResourceProgramAFERPEmergencyDiaperBank" target="_blank" rel="noopener">Emergency Diaper Bank</a></p><p scxw120543207="" paraid="10444660" paraeid="{47bf9031-50e8-45cc-af0b-ea79b5b1601e}{239}"><hr></p><p scxw120543207="" paraid="10444660" paraeid="{47bf9031-50e8-45cc-af0b-ea79b5b1601e}{239}">Los suministros disponibles incluyen pañales adicionales para bebés, pull-ups para niños pequeños, toallitas, pañales para adultos y productos para el periodo. Los suministros no están garantizados, están sujetos a disponibilidad y se entregan por orden de llegada. Atendemos a las familias de la región suroeste de Maricopa.<br data-start="393" data-end="396"></p><p scxw120543207="" paraid="10444660" paraeid="{47bf9031-50e8-45cc-af0b-ea79b5b1601e}{239}">Por favor regístrate aquí:&nbsp;<a href="https://www.cognitoforms.com/CityOfAvondaleNFS/AvondaleFamilyEducationResourceProgramAFERPEmergencyDiaperBank" target="_blank" rel="noopener">Emergency Diaper Bank</a></p><div></div>
LOCATION:Avondale Resource Center\, 995 E. Riley Dr Avondale\, Arizona 85323
CLASS:PUBLIC
END:VEVENT
END:VCALENDAR
