BEGIN:VCALENDAR
VERSION:2.0
PRODID:City of Avondale Calendar Creator
METHOD:PUBLISH
BEGIN:VEVENT
DTSTAMP:20260218T152637
DTSTART:20260521T153000
DTEND:20260521T163000
SUMMARY:K-Pop Club (All Ages)
DESCRIPTION:<p>A fun and inclusive space for fans of Korean pop music, culture, and&nbsp;entertainment.</p><p scxw27262668="" bcx0"="" paraid="1221315932" paraeid="{63049e5d-501b-4cf8-9444-bdbcbca76579}{177}">Thu (1x) May&nbsp;21   3:30 – 4:30 pm &nbsp;</p><p scxw27262668="" bcx0"="" paraid="537581061" paraeid="{63049e5d-501b-4cf8-9444-bdbcbca76579}{179}">Tue&nbsp;(3x) Jun&nbsp;23, Jul&nbsp;28, Aug&nbsp;25 4&nbsp;–&nbsp;5&nbsp;pm</p>
X-ALT-DESC;FMTTYPE=text/html:<p>A fun and inclusive space for fans of Korean pop music, culture, and&nbsp;entertainment.</p><p scxw27262668="" bcx0"="" paraid="1221315932" paraeid="{63049e5d-501b-4cf8-9444-bdbcbca76579}{177}">Thu (1x) May&nbsp;21   3:30 – 4:30 pm &nbsp;</p><p scxw27262668="" bcx0"="" paraid="537581061" paraeid="{63049e5d-501b-4cf8-9444-bdbcbca76579}{179}">Tue&nbsp;(3x) Jun&nbsp;23, Jul&nbsp;28, Aug&nbsp;25 4&nbsp;–&nbsp;5&nbsp;pm</p>
LOCATION:Sam Garcia Western Avenue Library\, 495 E. Western Ave. Avondale\, Arizona 85323
CLASS:PUBLIC
END:VEVENT
END:VCALENDAR
