BEGIN:VCALENDAR
VERSION:2.0
PRODID:City of Avondale Calendar Creator
METHOD:PUBLISH
BEGIN:VEVENT
DTSTAMP:20260218T153209
DTSTART:20260516T140000
DTEND:20260516T150000
SUMMARY:Arizona250: History, Culture, and Community with Marshall Shore
DESCRIPTION:<div ltr="" scxw171213070="" bcx0"=""><p scxw171213070="" bcx0"="" paraid="1386003281" paraeid="{63049e5d-501b-4cf8-9444-bdbcbca76579}{335}">Journey through Arizona’s layered past to present. Indigenous knowledge systems that shaped the land long before statehood, visionary leaders and innovators who reimagined what life in the Southwest could be, and Arizona’s outsized influence on arts, architecture, film, and popular culture, revealing how this place continues to shape imaginations.&nbsp;</p></div><div ltr="" scxw171213070="" bcx0"=""><p scxw171213070="" bcx0"="" paraid="19327774" paraeid="{63049e5d-501b-4cf8-9444-bdbcbca76579}{337}">Sat (1x)&nbsp; May 16 2 – 3 pm&nbsp;&nbsp;</p></div>
X-ALT-DESC;FMTTYPE=text/html:<div ltr="" scxw171213070="" bcx0"=""><p scxw171213070="" bcx0"="" paraid="1386003281" paraeid="{63049e5d-501b-4cf8-9444-bdbcbca76579}{335}">Journey through Arizona’s layered past to present. Indigenous knowledge systems that shaped the land long before statehood, visionary leaders and innovators who reimagined what life in the Southwest could be, and Arizona’s outsized influence on arts, architecture, film, and popular culture, revealing how this place continues to shape imaginations.&nbsp;</p></div><div ltr="" scxw171213070="" bcx0"=""><p scxw171213070="" bcx0"="" paraid="19327774" paraeid="{63049e5d-501b-4cf8-9444-bdbcbca76579}{337}">Sat (1x)&nbsp; May 16 2 – 3 pm&nbsp;&nbsp;</p></div>
LOCATION:Sam Garcia Western Avenue Library\, 495 E. Western Ave. Avondale\, Arizona 85323
CLASS:PUBLIC
END:VEVENT
END:VCALENDAR
