BEGIN:VCALENDAR
VERSION:2.0
PRODID:City of Avondale Calendar Creator
METHOD:PUBLISH
BEGIN:VEVENT
DTSTAMP:20260312T125711
DTSTART:20260509T140000
DTEND:20260509T150000
SUMMARY:Adult Craft: Skateboard Deck Painting at Sam Garcia Library (Ages 18+)
DESCRIPTION:<p>An afternoon&nbsp;of creativity and relaxation. Connect with others and take home your own handmade creation. Registration is not required, but space is limited to first twelve adults.</p><p scxw71932855="" bcx0"="" paraid="341448223" paraeid="{63049e5d-501b-4cf8-9444-bdbcbca76579}{281}">Sat (1x) May&nbsp;9  2 –&nbsp;4&nbsp;pm  Skateboard Deck Painting&nbsp;</p><p scxw71932855="" bcx0"="" paraid="943234485" paraeid="{63049e5d-501b-4cf8-9444-bdbcbca76579}{285}">Sat (1x) Jun 13  2 – 3 pm  Patriotic Wreaths&nbsp;</p><p scxw71932855="" bcx0"="" paraid="1035899636" paraeid="{63049e5d-501b-4cf8-9444-bdbcbca76579}{287}">Sat (1x) Jul 11  2 – 3 pm  Stick Wind Chimes&nbsp;</p><p scxw71932855="" bcx0"="" paraid="528317607" paraeid="{63049e5d-501b-4cf8-9444-bdbcbca76579}{289}">Sat (1x) Aug 8  2 – 3 pm  Boho Earrings&nbsp;</p>
X-ALT-DESC;FMTTYPE=text/html:<p>An afternoon&nbsp;of creativity and relaxation. Connect with others and take home your own handmade creation. Registration is not required, but space is limited to first twelve adults.</p><p scxw71932855="" bcx0"="" paraid="341448223" paraeid="{63049e5d-501b-4cf8-9444-bdbcbca76579}{281}">Sat (1x) May&nbsp;9  2 –&nbsp;4&nbsp;pm  Skateboard Deck Painting&nbsp;</p><p scxw71932855="" bcx0"="" paraid="943234485" paraeid="{63049e5d-501b-4cf8-9444-bdbcbca76579}{285}">Sat (1x) Jun 13  2 – 3 pm  Patriotic Wreaths&nbsp;</p><p scxw71932855="" bcx0"="" paraid="1035899636" paraeid="{63049e5d-501b-4cf8-9444-bdbcbca76579}{287}">Sat (1x) Jul 11  2 – 3 pm  Stick Wind Chimes&nbsp;</p><p scxw71932855="" bcx0"="" paraid="528317607" paraeid="{63049e5d-501b-4cf8-9444-bdbcbca76579}{289}">Sat (1x) Aug 8  2 – 3 pm  Boho Earrings&nbsp;</p>
LOCATION:Sam Garcia Western Avenue Library\, 495 E. Western Ave. Avondale\, Arizona 85323
CLASS:PUBLIC
END:VEVENT
END:VCALENDAR
