BEGIN:VCALENDAR
VERSION:2.0
PRODID:City of Avondale Calendar Creator
METHOD:PUBLISH
BEGIN:VEVENT
DTSTAMP:20260310T172729
DTSTART:20260509T100000
DTEND:20260509T110000
SUMMARY:Eat, Play, Grow
DESCRIPTION:<p>Learn fun physical activities to do with your children and new tips on eating healthy. Each participating household will receive a special gift; attendance at both sessions is required to qualify.</p><p>Register here: <a href="https://www.cognitoforms.com/CityOfAvondaleNFS/RegistrationForEatPlayGrowAndColorMeHealthy" target="_blank" rel="noopener">Eat, Play, Grow</a></p><p><hr></p><p data-start="0" data-end="105">Aprende actividades físicas divertidas para hacer con tus hijos y nuevos consejos para comer saludable. Cada hogar participante recibirá un regalo especial; es necesario asistir a ambas sesiones para poder recibirlo.</p><p data-start="0" data-end="105">Regístrate aquí: <a href="https://www.cognitoforms.com/CityOfAvondaleNFS/RegistrationForEatPlayGrowAndColorMeHealthy" target="_blank" rel="noopener">Eat, Play, Grow</a></p>
X-ALT-DESC;FMTTYPE=text/html:<p>Learn fun physical activities to do with your children and new tips on eating healthy. Each participating household will receive a special gift; attendance at both sessions is required to qualify.</p><p>Register here: <a href="https://www.cognitoforms.com/CityOfAvondaleNFS/RegistrationForEatPlayGrowAndColorMeHealthy" target="_blank" rel="noopener">Eat, Play, Grow</a></p><p><hr></p><p data-start="0" data-end="105">Aprende actividades físicas divertidas para hacer con tus hijos y nuevos consejos para comer saludable. Cada hogar participante recibirá un regalo especial; es necesario asistir a ambas sesiones para poder recibirlo.</p><p data-start="0" data-end="105">Regístrate aquí: <a href="https://www.cognitoforms.com/CityOfAvondaleNFS/RegistrationForEatPlayGrowAndColorMeHealthy" target="_blank" rel="noopener">Eat, Play, Grow</a></p>
LOCATION:Avondale Resource Center\, 995 E. Riley Dr Avondale\, Arizona 85323
CLASS:PUBLIC
END:VEVENT
END:VCALENDAR
