BEGIN:VCALENDAR
VERSION:2.0
PRODID:City of Avondale Calendar Creator
METHOD:PUBLISH
BEGIN:VEVENT
DTSTAMP:20260415T185203
DTSTART:20260530T130000
DTEND:20260530T140000
SUMMARY:Kids Cafe at Sam Garcia Library
DESCRIPTION:Kids Cafe in partnership with St Mary's, will offer a meal for children from birth to 18 between 1pm-2pm (while supplies last). First Come, First Served. 1 meal per child.&nbsp;
X-ALT-DESC;FMTTYPE=text/html:Kids Cafe in partnership with St Mary's, will offer a meal for children from birth to 18 between 1pm-2pm (while supplies last). First Come, First Served. 1 meal per child.&nbsp;
LOCATION:Sam Garcia Western Avenue Library\, 495 E. Western Ave. Avondale\, Arizona 85323
CLASS:PUBLIC
END:VEVENT
END:VCALENDAR
