BEGIN:VCALENDAR
VERSION:2.0
PRODID:City of Avondale Calendar Creator
METHOD:PUBLISH
BEGIN:VEVENT
DTSTAMP:20170328T110809
DTSTART:20170401T080000
DTEND:20170401T110000
SUMMARY:Regional Household Hazardous Waste Drop Off April 1
DESCRIPTION:<p><b>Household Hazardous Waste Drop Off</b></p><p>Saturday, April 1, 2017</p><p>8 to 11 a.m.</p><p>Coldwater Park, 10 N. Eliseo C. Felix Way, Avondale 85323 (from Dysart Road, enter at Western Ave.)</p><p><a href="https://avondale2.prod-as.govaccess.org/?navid=802"><strong>Household Hazardous Waste Event</strong></a></p><p>&nbsp;</p><p>Residents of Avondale, Goodyear, and Tolleson are invited to drop off household hazardous waste for free on Saturday, April 1 from 8 to 11 a.m. at Coldwater Park, 10 N. Eliseo C. Felix Way, Avondale. Participants should enter at Western Avenue from Dysart Road.</p><p>&nbsp;</p><p>Residents will be required to provide proof of residency such as a recent city utility bill or driver’s license. This event is for residential hazardous waste only; commercial or medical waste will not be accepted. Materials should be placed in the trunk or truck bed of vehicles for safety considerations.</p><p>&nbsp;</p><p>Acceptable Items</p><ul>    <li>Automotive liquids: antifreeze, brake fluid, car batteries, gasoline, motor oil, transmission fluid</li>    <li>Electronics: cable boxes, cell phones, computers, monitors, stereos, DVD players, TVs, VCRs</li>    <li>Household chemicals: adhesives, aerosols, caulking, kerosene, lacquers, paint, poisons, pool chemicals, primers, poisons, solvents, stains, thinners, varnishes</li>    <li>Household items: batteries, fire extinguishers, fluorescent tubes, propane tanks, thermometers</li>    <li>Lawn chemicals: gardening chemicals, herbicides, insecticides, fertilizers, pesticides</li>    <li>Tires: up to five passenger car tires - no wheels, rims or truck tires    <p>&nbsp;</p>    <p>Items NOT Accepted</p>    </li>    <li>55 Gallon Drums of Waste</li>    <li>Air Conditioners</li>    <li>Ammunition</li>    <li>Appliances</li>    <li>Asbestos</li>    <li>Biological / Infectious Waste</li>    <li>Commercial Waste</li>    <li>Explosives</li>    <li>Glass</li>    <li>Metals</li>    <li>Plastic</li>    <li>Truck Tires</li>    <li>Smoke Detectors</li>    <li>Water Heaters</li></ul><p>&nbsp;</p><p>For more information on this event, visit <a href="http://www.goodyearaz.gov/trash">www.goodyearaz.gov/trash</a> or call: Avondale Public Works at 623-333-4400, Goodyear Public Works at 623-932-3010, or Tolleson Field Operations at 623-936-7141.</p><p align="center">&nbsp;</p>
X-ALT-DESC;FMTTYPE=text/html:<p><b>Household Hazardous Waste Drop Off</b></p><p>Saturday, April 1, 2017</p><p>8 to 11 a.m.</p><p>Coldwater Park, 10 N. Eliseo C. Felix Way, Avondale 85323 (from Dysart Road, enter at Western Ave.)</p><p><a href="https://avondale2.prod-as.govaccess.org/?navid=802"><strong>Household Hazardous Waste Event</strong></a></p><p>&nbsp;</p><p>Residents of Avondale, Goodyear, and Tolleson are invited to drop off household hazardous waste for free on Saturday, April 1 from 8 to 11 a.m. at Coldwater Park, 10 N. Eliseo C. Felix Way, Avondale. Participants should enter at Western Avenue from Dysart Road.</p><p>&nbsp;</p><p>Residents will be required to provide proof of residency such as a recent city utility bill or driver’s license. This event is for residential hazardous waste only; commercial or medical waste will not be accepted. Materials should be placed in the trunk or truck bed of vehicles for safety considerations.</p><p>&nbsp;</p><p>Acceptable Items</p><ul>    <li>Automotive liquids: antifreeze, brake fluid, car batteries, gasoline, motor oil, transmission fluid</li>    <li>Electronics: cable boxes, cell phones, computers, monitors, stereos, DVD players, TVs, VCRs</li>    <li>Household chemicals: adhesives, aerosols, caulking, kerosene, lacquers, paint, poisons, pool chemicals, primers, poisons, solvents, stains, thinners, varnishes</li>    <li>Household items: batteries, fire extinguishers, fluorescent tubes, propane tanks, thermometers</li>    <li>Lawn chemicals: gardening chemicals, herbicides, insecticides, fertilizers, pesticides</li>    <li>Tires: up to five passenger car tires - no wheels, rims or truck tires    <p>&nbsp;</p>    <p>Items NOT Accepted</p>    </li>    <li>55 Gallon Drums of Waste</li>    <li>Air Conditioners</li>    <li>Ammunition</li>    <li>Appliances</li>    <li>Asbestos</li>    <li>Biological / Infectious Waste</li>    <li>Commercial Waste</li>    <li>Explosives</li>    <li>Glass</li>    <li>Metals</li>    <li>Plastic</li>    <li>Truck Tires</li>    <li>Smoke Detectors</li>    <li>Water Heaters</li></ul><p>&nbsp;</p><p>For more information on this event, visit <a href="http://www.goodyearaz.gov/trash">www.goodyearaz.gov/trash</a> or call: Avondale Public Works at 623-333-4400, Goodyear Public Works at 623-932-3010, or Tolleson Field Operations at 623-936-7141.</p><p align="center">&nbsp;</p>
LOCATION:Coldwater Park\, 10 N. Eliseo C. Felix Way Avondale\, Arizona 85323
CLASS:PUBLIC
END:VEVENT
END:VCALENDAR
